BEGIN:VCALENDAR
VERSION:2.0
PRODID:-//wp-events-plugin.com//7.2.3.1//EN
TZID:America/Bogota
X-WR-TIMEZONE:America/Bogota
BEGIN:VEVENT
UID:1@quitoeterno.org
DTSTART;TZID=America/Bogota:20250924T190000
DTEND;TZID=America/Bogota:20250924T220000
DTSTAMP:20250922T010415Z
URL:https://quitoeterno.org/events/noche-de-chismes-alianzas-matrimoniales
 /
SUMMARY:Noche de Chismes Alianzas Matrimoniales
DESCRIPTION:Entre intrigas\, pactos y romances\, descubrimos cómo el matri
 monio se convirtió en una estrategia política en la historia del Ecuador
 .\nUna velada de chismes y buena comida quiteña junto al Chulla de Quito 
 Eterno.\n\n🍽️ Incluye:\n✅ Espectáculo escénico con Personaje Narr
 ador de Quito Eterno.\n✅ Cena (una opción de menú + bebida).\n\n✨ Op
 ciones de menú:\n1. Caramelos de hostia: Hostias dulces\, rellenas de gui
 so de gallina con anís y tomates quemados\, con mayonesa de hierbas y rá
 banos encurtidos. ¡Fritas y crocantes!\n2. Tortilla de chicharrón con hu
 evito: Tortilla de maíz rellena de chicharrón\, con jugo de seco de carn
 e y un huevito de codorniz frito.\n3. Ceviche de palmito (vegetariano): Pa
 lmitos con jugo de limón\, aguacates\, rábano encurtido\, pepinillo\, sa
 lsita de tomates quemados y aceite de hierbas de monte.\n\n🥂 Bebida inc
 luida: Tónico de hierbas andinas: Puntas de zarzaparrilla y romero\, azú
 car\, limón\, hielo y agua mineral.
ATTACH;FMTTYPE=image/jpeg:https://quitoeterno.org/wp-content/uploads/2025/
 09/NocheDeChismeConCena.png
CATEGORIES:Mishki Shimi
LOCATION:https://maps.app.goo.gl/rLhzG7Pck9EWUzYd9
END:VEVENT
BEGIN:VTIMEZONE
TZID:America/Bogota
X-LIC-LOCATION:America/Bogota
BEGIN:STANDARD
DTSTART:20240924T190000
TZOFFSETFROM:-0500
TZOFFSETTO:-0500
TZNAME:-05
END:STANDARD
END:VTIMEZONE
END:VCALENDAR