BEGIN:VCALENDAR
VERSION:2.0
PRODID:-//wp-events-plugin.com//7.2.3.1//EN
TZID:America/Bogota
X-WR-TIMEZONE:America/Bogota
BEGIN:VEVENT
UID:30@quitoeterno.org
DTSTART;TZID=America/Bogota:20251220T110000
DTEND;TZID=America/Bogota:20251220T130000
DTSTAMP:20251212T014315Z
URL:https://quitoeterno.org/events/la-navidad-en-quito1/
SUMMARY:La Navidad en Quito
DESCRIPTION:Lo que vivirás\nEn este recorrido descubrirás el origen de la
 s tradiciones que han dado forma a la Navidad quiteña: la Novena\, el Pas
 e del Niño\, los pesebres coloniales\, los villancicos\, la Misa del Gall
 o y los dulces que perfumaban los claustros.\nVisitaremos espacios donde e
 stas costumbres siguen vivas y recordaremos cómo las abuelas llenaban los
  nacimientos con figuras muy nuestras: pastores de barrio\, reyes magos\, 
 lagunitas y hasta juguetes escondidos en el musgo.\n¡Ven con nosotros a r
 evivir la Navidad quiteña!\n\n\nSitios que visitaremos\n\n 	Pesebre del C
 onvento de Santa Catalina de Siena y su museo\n 	Exposición Rinconcito de
 l Belén – Francisco y Clara\n 	Plaza de San Francisco\n 	Feria de dulce
 s monásticos\n 	Exhibición de pesebres del Convento de San Francisco\n 	
 Representación del Pase del Niño\n\nValor de la experiencia\n\n 	$10\,00
  todo público\n 	Evento recomendado para mayores de 7 años\n 	Menores de
  6 años no pagan\n\n\nItinerario\n\n 	18h45: Encuentro en el Monasterio d
 e Santa Catalina de Siena\n 	18h45 a 19h00: Registro de asistencia\n 	19h0
 0: Inicio del recorrido\n 	21h00: Finalización\n\nExtras\n\n 	Recorrido t
 eatralizado con un personaje de Quito Eterno\n 	Experiencia gastronómica 
 navideña\n 	Obsequio: bebida y bocadito navideño\n 	Parqueadero disponib
 le en La Ronda → Ver ubicación\n\n🎶 ¡Canta\, recuerda y celebra con
  nosotros la Navidad más quiteña!\n✨ Cupos limitados\n\n\n\n
ATTACH;FMTTYPE=image/jpeg:https://quitoeterno.org/wp-content/uploads/2025/
 12/webSantaCatalinaNavidad01_Mesa-de-trabajo-1-01.jpg
CATEGORIES:Especial Navideño
LOCATION:Monasterio de Santa Catalina\, Espejo y Flores\, Quito\, Ecuador
X-APPLE-STRUCTURED-LOCATION;VALUE=URI;X-ADDRESS=Espejo y Flores\, Quito\, E
 cuador;X-APPLE-RADIUS=100;X-TITLE=Monasterio de Santa Catalina:geo:0,0
END:VEVENT
BEGIN:VTIMEZONE
TZID:America/Bogota
X-LIC-LOCATION:America/Bogota
BEGIN:STANDARD
DTSTART:20241220T110000
TZOFFSETFROM:-0500
TZOFFSETTO:-0500
TZNAME:-05
END:STANDARD
END:VTIMEZONE
END:VCALENDAR